BEGIN:VCALENDAR
VERSION:2.0
PRODID:-//Förderverein Schulbiologiezentrum Hamburg e.V. - ECPv6.15.20//NONSGML v1.0//EN
CALSCALE:GREGORIAN
METHOD:PUBLISH
X-ORIGINAL-URL:https://www.fs-hamburg.org
X-WR-CALDESC:Veranstaltungen für Förderverein Schulbiologiezentrum Hamburg e.V.
REFRESH-INTERVAL;VALUE=DURATION:PT1H
X-Robots-Tag:noindex
X-PUBLISHED-TTL:PT1H
BEGIN:VTIMEZONE
TZID:UTC
BEGIN:STANDARD
TZOFFSETFROM:+0000
TZOFFSETTO:+0000
TZNAME:UTC
DTSTART:20240101T000000
END:STANDARD
END:VTIMEZONE
BEGIN:VEVENT
DTSTART;TZID=UTC:20250915T170000
DTEND;TZID=UTC:20250915T190000
DTSTAMP:20260425T214440
CREATED:20250827T171338Z
LAST-MODIFIED:20250910T143438Z
UID:801-1757955600-1757962800@www.fs-hamburg.org
SUMMARY:Klimabaumpfad am Harburger Rathaus
DESCRIPTION:Treffpunkt: Haupteingang des Harburger Rathauses \nLeitung: Regina Marek \nKosten: Kostenlos
URL:https://www.fs-hamburg.org/event/klimabaumpfad-am-harburger-rathaus/
LOCATION:Harburger Rathaus\, Harburger Rathausplatz 1\, Hamburg\, 21073\, Germany
END:VEVENT
END:VCALENDAR