BEGIN:VCALENDAR
VERSION:2.0
PRODID:-//Förderverein Schulbiologiezentrum Hamburg e.V. - ECPv6.15.20//NONSGML v1.0//EN
CALSCALE:GREGORIAN
METHOD:PUBLISH
X-WR-CALNAME:Förderverein Schulbiologiezentrum Hamburg e.V.
X-ORIGINAL-URL:https://www.fs-hamburg.org
X-WR-CALDESC:Veranstaltungen für Förderverein Schulbiologiezentrum Hamburg e.V.
REFRESH-INTERVAL;VALUE=DURATION:PT1H
X-Robots-Tag:noindex
X-PUBLISHED-TTL:PT1H
BEGIN:VTIMEZONE
TZID:UTC
BEGIN:STANDARD
TZOFFSETFROM:+0000
TZOFFSETTO:+0000
TZNAME:UTC
DTSTART:20250101T000000
END:STANDARD
END:VTIMEZONE
BEGIN:VEVENT
DTSTART;TZID=UTC:20260209T143000
DTEND;TZID=UTC:20260209T173000
DTSTAMP:20260425T141824
CREATED:20260110T155408Z
LAST-MODIFIED:20260110T155408Z
UID:863-1770647400-1770658200@www.fs-hamburg.org
SUMMARY:Vernetzungstreffen zum Klimaschutz in Schulen in Hamburg
DESCRIPTION:Montag\, 09. Februar 2026 von 14:30 bis 17:30 Uhr \nWo?: Berufliche Schule Uferstraße\, Uferstraße 9–10\, 22081 Hamburg \nWer?: Schüler*innen und Lehrer*innen\, Partner und Politik \nWas?: Vorstellung von Leuchtturmprojekten; Arena der Möglichkeiten; World Café zu Klimaschutz in Schulen und Unterstützung der Arbeit; Raum für Austausch \nInformationen zur Anmeldung unter: \nKlimaHub | Vor-Ort-Veranstaltungen | Energiesparmeister
URL:https://www.fs-hamburg.org/event/vernetzungstreffen-zum-klimaschutz-in-schulen-in-hamburg/
LOCATION:Uferstraße 9–10\, Berufliche Schule Uferstraße\, Uferstraße 9–10\, Hamburg\, 22081\, Germany
END:VEVENT
END:VCALENDAR