BEGIN:VCALENDAR
VERSION:2.0
PRODID:-//Förderverein Schulbiologiezentrum Hamburg e.V. - ECPv6.15.20//NONSGML v1.0//EN
CALSCALE:GREGORIAN
METHOD:PUBLISH
X-ORIGINAL-URL:https://www.fs-hamburg.org
X-WR-CALDESC:Veranstaltungen für Förderverein Schulbiologiezentrum Hamburg e.V.
REFRESH-INTERVAL;VALUE=DURATION:PT1H
X-Robots-Tag:noindex
X-PUBLISHED-TTL:PT1H
BEGIN:VTIMEZONE
TZID:UTC
BEGIN:STANDARD
TZOFFSETFROM:+0000
TZOFFSETTO:+0000
TZNAME:UTC
DTSTART:20250101T000000
END:STANDARD
END:VTIMEZONE
BEGIN:VEVENT
DTSTART;TZID=UTC:20260604T100000
DTEND;TZID=UTC:20260604T123000
DTSTAMP:20260422T171628
CREATED:20260323T081255Z
LAST-MODIFIED:20260323T160902Z
UID:908-1780567200-1780576200@www.fs-hamburg.org
SUMMARY:Lesung mit der Autorin Anke Rockel
DESCRIPTION:„Schwein gehabt“ – Das Wildschwein Artur rettet ein Schwein aus der Massentierhaltung. \nGeeignet für 5- bis 7-jährige und Erwachsene. \nAnmeldung: regina.marek@t-online.de
URL:https://www.fs-hamburg.org/event/lesung-mit-der-autorin-anke-rockel/
LOCATION:Bücherhalle Harburg\, Eddelbüttelstraße 47a\, Hamburg\, Hamburg\, 21073\, Germany
END:VEVENT
END:VCALENDAR