BEGIN:VCALENDAR
VERSION:2.0
PRODID:-//Förderverein Schulbiologiezentrum Hamburg e.V. - ECPv6.15.20//NONSGML v1.0//EN
CALSCALE:GREGORIAN
METHOD:PUBLISH
X-ORIGINAL-URL:https://www.fs-hamburg.org
X-WR-CALDESC:Veranstaltungen für Förderverein Schulbiologiezentrum Hamburg e.V.
REFRESH-INTERVAL;VALUE=DURATION:PT1H
X-Robots-Tag:noindex
X-PUBLISHED-TTL:PT1H
BEGIN:VTIMEZONE
TZID:UTC
BEGIN:STANDARD
TZOFFSETFROM:+0000
TZOFFSETTO:+0000
TZNAME:UTC
DTSTART:20240101T000000
END:STANDARD
END:VTIMEZONE
BEGIN:VEVENT
DTSTART;TZID=UTC:20251207T110000
DTEND;TZID=UTC:20251207T123000
DTSTAMP:20260425T154801
CREATED:20250910T142918Z
LAST-MODIFIED:20250910T143014Z
UID:834-1765105200-1765110600@www.fs-hamburg.org
SUMMARY:Schneekugeln selbst gemacht
DESCRIPTION:Moderation:\nDr. Regina Marek\, bitte Anmeldung unter regina.marek@t-online.de
URL:https://www.fs-hamburg.org/event/schneekugeln-selbst-gemacht/
LOCATION:Grüne Geschäftsstelle\, Schwarzenbergstraße 36\, Hamburg\, 21073\, Germany
END:VEVENT
END:VCALENDAR